BEGIN:VCALENDAR
VERSION:2.0
PRODID:-//The Waterfront Function Centre - ECPv6.15.16.1//NONSGML v1.0//EN
CALSCALE:GREGORIAN
METHOD:PUBLISH
X-WR-CALNAME:The Waterfront Function Centre
X-ORIGINAL-URL:https://waterfrontfunctions.net.au
X-WR-CALDESC:Events for The Waterfront Function Centre
REFRESH-INTERVAL;VALUE=DURATION:PT1H
X-Robots-Tag:noindex
X-PUBLISHED-TTL:PT1H
BEGIN:VTIMEZONE
TZID:Australia/Sydney
BEGIN:STANDARD
TZOFFSETFROM:+1100
TZOFFSETTO:+1000
TZNAME:AEST
DTSTART:20250405T160000
END:STANDARD
BEGIN:DAYLIGHT
TZOFFSETFROM:+1000
TZOFFSETTO:+1100
TZNAME:AEDT
DTSTART:20251004T160000
END:DAYLIGHT
BEGIN:STANDARD
TZOFFSETFROM:+1100
TZOFFSETTO:+1000
TZNAME:AEST
DTSTART:20260404T160000
END:STANDARD
BEGIN:DAYLIGHT
TZOFFSETFROM:+1000
TZOFFSETTO:+1100
TZNAME:AEDT
DTSTART:20261003T160000
END:DAYLIGHT
BEGIN:STANDARD
TZOFFSETFROM:+1100
TZOFFSETTO:+1000
TZNAME:AEST
DTSTART:20270403T160000
END:STANDARD
BEGIN:DAYLIGHT
TZOFFSETFROM:+1000
TZOFFSETTO:+1100
TZNAME:AEDT
DTSTART:20271002T160000
END:DAYLIGHT
END:VTIMEZONE
BEGIN:VEVENT
DTSTART;VALUE=DATE:20260302
DTEND;VALUE=DATE:20260901
DTSTAMP:20260423T190229
CREATED:20260301T231938Z
LAST-MODIFIED:20260301T232120Z
UID:31316-1772409600-1788220799@waterfrontfunctions.net.au
SUMMARY:50% ROOM HIRE
DESCRIPTION:Room Hire Fee 50% off\n*Any Day of The Week\n*Book Any Date from Now Until August 31st \nReduced room hire rates:\nWaterfront – $1000\nBayview – $550 | St. Kilda – $550\nSapphire – $350 \nThis offer is valid for function bookings from 12.02.2026 to 31.08.2026. \nRegular room‑hire rates will apply to all dates outside this range \nFOR NEW BOOKINGS ONLY | terms & conditions apply \nMAKE AN ENQUIRY
URL:https://waterfrontfunctions.net.au/event/50-room-hire/
CATEGORIES:Specials,Upcoming Event
ATTACH;FMTTYPE=image/png:https://waterfrontfunctions.net.au/wp-content/uploads/2026/03/50-Off-Social-Media-Material.png
END:VEVENT
BEGIN:VEVENT
DTSTART;VALUE=DATE:20260302
DTEND;VALUE=DATE:20260901
DTSTAMP:20260423T190229
CREATED:20260301T232335Z
LAST-MODIFIED:20260301T232335Z
UID:31318-1772409600-1788220799@waterfrontfunctions.net.au
SUMMARY:2026 WINTER WEDDING PACKAGES
DESCRIPTION:$139per person.\nValid for dates between 01.05.26 to 31.08.26 \nTwo Course Classic Menu \nSilver Beverage Package\nMagnum ‘Cliquot Veuve’ for Bridal Party \nDeparture Car to Metro Sydney \n*Terms and Conditions Apply* \nMAKE AN ENQUIRY
URL:https://waterfrontfunctions.net.au/event/2026-winter-wedding-packages/
CATEGORIES:Specials,Upcoming Event
ATTACH;FMTTYPE=image/png:https://waterfrontfunctions.net.au/wp-content/uploads/2026/03/Winter-Wedding-Packages-Promotion-Media-Material.png
END:VEVENT
BEGIN:VEVENT
DTSTART;VALUE=DATE:20260302
DTEND;VALUE=DATE:20260801
DTSTAMP:20260423T190229
CREATED:20260301T232611Z
LAST-MODIFIED:20260301T232611Z
UID:31319-1772409600-1785542399@waterfrontfunctions.net.au
SUMMARY:CHRISTMAS IN JULY
DESCRIPTION:Room Hire from $350 \nIndulge in:\n– a festive two‑course Christmas lunch\n– our In‑Room Bar\n– elegant\, waterfront views\n– christmas themed styling \n**Prices per head start from $59 per person \nMAKE AN ENQUIRY
URL:https://waterfrontfunctions.net.au/event/christmas-in-july/
CATEGORIES:Specials,Upcoming Event
ATTACH;FMTTYPE=image/png:https://waterfrontfunctions.net.au/wp-content/uploads/2026/03/Christmas-in-July-Media-Material.png
END:VEVENT
END:VCALENDAR